BEGIN:VCALENDAR
VERSION:2.0
PRODID:-//Kottayam Club - ECPv6.15.20//NONSGML v1.0//EN
CALSCALE:GREGORIAN
METHOD:PUBLISH
X-WR-CALNAME:Kottayam Club
X-ORIGINAL-URL:https://kottayamclub.net
X-WR-CALDESC:Events for Kottayam Club
REFRESH-INTERVAL;VALUE=DURATION:PT1H
X-Robots-Tag:noindex
X-PUBLISHED-TTL:PT1H
BEGIN:VTIMEZONE
TZID:Asia/Kolkata
BEGIN:STANDARD
TZOFFSETFROM:+0530
TZOFFSETTO:+0530
TZNAME:IST
DTSTART:20220101T000000
END:STANDARD
END:VTIMEZONE
BEGIN:VEVENT
DTSTART;TZID=Asia/Kolkata:20231231T080000
DTEND;TZID=Asia/Kolkata:20240101T010000
DTSTAMP:20260425T020101
CREATED:20240112T005210Z
LAST-MODIFIED:20240113T050516Z
UID:1761-1704009600-1704070800@kottayamclub.net
SUMMARY:New Year Celebration
DESCRIPTION:[vc_row][vc_column][vc_media_grid grid_id=”vc_gid:1705041354511-0358266d-566b-7″ include=”1765\,1766\,1767\,1768\,1770\,1771\,1772\,1773\,1774″][/vc_column][/vc_row]
URL:https://kottayamclub.net/event/new-year-calibrations/
CATEGORIES:Parties,Upcoming
ATTACH;FMTTYPE=image/jpeg:https://kottayamclub.net/wp-content/uploads/2024/01/KC-New-Year-LED.jpg
END:VEVENT
END:VCALENDAR